BEGIN:VCALENDAR
VERSION:2.0
PRODID:icalendar-ruby
CALSCALE:GREGORIAN
METHOD:PUBLISH
BEGIN:VEVENT
DTSTAMP:20260420T061938Z
UID:5-814260@kingdomfund.com
DTSTART:20250622T180000Z
DTEND:20250622T190000Z
CLASS:PUBLIC
CREATED:20260419T231004
DESCRIPTION:Sunday Worship
LAST-MODIFIED:20260419T231004
LOCATION:
SUMMARY:Sunday Worship
URL;VALUE=URI:https://kingdomfund.com/events/sunday-worship/2025-06-22
END:VEVENT
END:VCALENDAR
