BEGIN:VCALENDAR
VERSION:2.0
PRODID:icalendar-ruby
CALSCALE:GREGORIAN
METHOD:PUBLISH
BEGIN:VEVENT
DTSTAMP:20260420T032949Z
UID:5-813879@kingdomfund.com
DTSTART:20250608T180000Z
DTEND:20250608T190000Z
CLASS:PUBLIC
CREATED:20260419T193311
DESCRIPTION:Sunday Worship
LAST-MODIFIED:20260419T193311
LOCATION:
SUMMARY:Sunday Worship
URL;VALUE=URI:https://kingdomfund.com/events/sunday-worship/2025-06-08
END:VEVENT
END:VCALENDAR
