BEGIN:VCALENDAR
VERSION:2.0
PRODID:icalendar-ruby
CALSCALE:GREGORIAN
METHOD:PUBLISH
BEGIN:VEVENT
DTSTAMP:20260420T003033Z
UID:5-813498@kingdomfund.com
DTSTART:20250525T180000Z
DTEND:20250525T190000Z
CLASS:PUBLIC
CREATED:20260419T155352
DESCRIPTION:Sunday Worship
LAST-MODIFIED:20260419T155352
LOCATION:
SUMMARY:Sunday Worship
URL;VALUE=URI:https://kingdomfund.com/events/sunday-worship/2025-05-25
END:VEVENT
END:VCALENDAR
