BEGIN:VCALENDAR
VERSION:2.0
PRODID:icalendar-ruby
CALSCALE:GREGORIAN
METHOD:PUBLISH
BEGIN:VEVENT
DTSTAMP:20260419T231357Z
UID:5-813497@kingdomfund.com
DTSTART:20250518T180000Z
DTEND:20250518T190000Z
CLASS:PUBLIC
CREATED:20260419T155352
DESCRIPTION:Sunday Worship
LAST-MODIFIED:20260419T155352
LOCATION:
SUMMARY:Sunday Worship
URL;VALUE=URI:https://kingdomfund.com/events/sunday-worship/2025-05-18
END:VEVENT
END:VCALENDAR
