BEGIN:VCALENDAR
VERSION:2.0
PRODID:icalendar-ruby
CALSCALE:GREGORIAN
METHOD:PUBLISH
BEGIN:VEVENT
DTSTAMP:20260419T204028Z
UID:5-813116@kingdomfund.com
DTSTART:20250504T180000Z
DTEND:20250504T190000Z
CLASS:PUBLIC
CREATED:20260419T121059
DESCRIPTION:Sunday Worship
LAST-MODIFIED:20260419T121059
LOCATION:
SUMMARY:Sunday Worship
URL;VALUE=URI:https://kingdomfund.com/events/sunday-worship/2025-05-04
END:VEVENT
END:VCALENDAR
