BEGIN:VCALENDAR
VERSION:2.0
PRODID:icalendar-ruby
CALSCALE:GREGORIAN
METHOD:PUBLISH
BEGIN:VEVENT
DTSTAMP:20260419T191519Z
UID:5-813115@kingdomfund.com
DTSTART:20250427T180000Z
DTEND:20250427T190000Z
CLASS:PUBLIC
CREATED:20260419T121059
DESCRIPTION:Sunday Worship
LAST-MODIFIED:20260419T121059
LOCATION:
SUMMARY:Sunday Worship
URL;VALUE=URI:https://kingdomfund.com/events/sunday-worship/2025-04-27
END:VEVENT
END:VCALENDAR
