BEGIN:VCALENDAR
VERSION:2.0
PRODID:icalendar-ruby
CALSCALE:GREGORIAN
METHOD:PUBLISH
BEGIN:VEVENT
DTSTAMP:20260419T125433Z
UID:5-812354@kingdomfund.com
DTSTART:20250323T180000Z
DTEND:20250323T190000Z
CLASS:PUBLIC
CREATED:20260419T044616
DESCRIPTION:Sunday Worship
LAST-MODIFIED:20260419T044616
LOCATION:
SUMMARY:Sunday Worship
URL;VALUE=URI:https://kingdomfund.com/events/sunday-worship/2025-03-23
END:VEVENT
END:VCALENDAR
